BEGIN:VCALENDAR
VERSION:2.0
PRODID:-//Museu da Marioneta - ECPv6.0.6.2//NONSGML v1.0//EN
CALSCALE:GREGORIAN
METHOD:PUBLISH
X-WR-CALNAME:Museu da Marioneta
X-ORIGINAL-URL:https://www.museudamarioneta.pt
X-WR-CALDESC:Events for Museu da Marioneta
REFRESH-INTERVAL;VALUE=DURATION:PT1H
X-Robots-Tag:noindex
X-PUBLISHED-TTL:PT1H
BEGIN:VTIMEZONE
TZID:UTC
BEGIN:STANDARD
TZOFFSETFROM:+0000
TZOFFSETTO:+0000
TZNAME:UTC
DTSTART:20240101T000000
END:STANDARD
END:VTIMEZONE
BEGIN:VEVENT
DTSTART;TZID=UTC:20240425T103000
DTEND;TZID=UTC:20240425T123000
DTSTAMP:20260421T131347
CREATED:20240301T105458Z
LAST-MODIFIED:20240322T152801Z
UID:10000118-1714041000-1714048200@www.museudamarioneta.pt
SUMMARY:Marioneta Livre! | Oficina Relâmpago
DESCRIPTION:[vc_row css=”.vc_custom_1709290472421{background-image: url(https://www.museudamarioneta.pt/wp-content/uploads/2024/03/Design-sem-nome-30.jpg?id=17902) !important;background-position: center !important;background-repeat: no-repeat !important;background-size: cover !important;}”][vc_column][vc_column_text el_class=”TitleEventoBanner” css=”.vc_custom_1709289982460{background-position: center !important;background-repeat: no-repeat !important;background-size: cover !important;}”] \nMARIONETA LIVRE!\nOficina Relâmpago\n[/vc_column_text][/vc_column][/vc_row][vc_row][vc_column width=”1/4″][vc_column_text] \n25 DE ABRIL\, 10H30-12H30 \n[/vc_column_text][vc_column_text] \n\n\n\nPÚBLICO ALVO\nTodas as idades\n\n\n\n[/vc_column_text][vc_column_text] \n\n\n\nPREÇO\nGratuito\n\n\n\n[/vc_column_text][vc_column_text] \n\n\n\nDURAÇÃO\n3 horas\n\n\n\n[/vc_column_text][vc_column_text] \n\nINFORMAÇÕES:\nmuseu@museudamarioneta.pt\n213 942 810\n\n[/vc_column_text][/vc_column][vc_column width=”3/4″][vc_column_text]Na celebração dos 50 anos do 25 de abril\, damos liberdade a todos os visitantes do Museu da Marioneta para criarem a sua personagem.\nNesta oficina\, vamos criar e dar voz à marioneta. \nViva a Liberdade! \n  \n  \nEsta atividade é gratuita\, no âmbito da celebração dos 50 anos do 25 de abril.\nDecorre no Claustro do Museu durante toda a manhã. \n  \n  \nIncluído na programação Festas de Abril 2024. \n \n[/vc_column_text][/vc_column][/vc_row]
URL:https://www.museudamarioneta.pt/evento/marioneta-livre-oficina-relampago/
LOCATION:Museu da Marioneta
CATEGORIES:Oficinas,Programação,Serviço Educativo
ATTACH;FMTTYPE=image/jpeg:https://www.museudamarioneta.pt/wp-content/uploads/2024/03/imagem-Oficina-Relampago-abril-scaled.jpg
END:VEVENT
BEGIN:VEVENT
DTSTART;TZID=UTC:20240425T160000
DTEND;TZID=UTC:20240425T164000
DTSTAMP:20260421T131347
CREATED:20240306T172115Z
LAST-MODIFIED:20240322T152738Z
UID:10000121-1714060800-1714063200@www.museudamarioneta.pt
SUMMARY:Maria Liberdade | Trulé
DESCRIPTION:[vc_row css=”.vc_custom_1709745586235{background-image: url(https://www.museudamarioneta.pt/wp-content/uploads/2024/03/evento-calendario-MARIA-LIBERDADE.png?id=17921) !important;background-position: center !important;background-repeat: no-repeat !important;background-size: cover !important;}”][vc_column][vc_column_text el_class=”TitleEventoBanner” css=”.vc_custom_1709745287934{background-position: center !important;background-repeat: no-repeat !important;background-size: cover !important;}”] \nMARIA LIBERDADE\nTRULÉ\n[/vc_column_text][/vc_column][/vc_row][vc_row][vc_column width=”1/4″][vc_column_text] \n25 DE ABRIL\, 16H \n[/vc_column_text][vc_column_text] \n\n\n\nPÚBLICO ALVO\nPara maiores de 6 anos\n\n\n\n[/vc_column_text][vc_column_text] \n\n\n\nPREÇO\n\n\n\n\n7\,5 € / 5€ para crianças\, profissionais de espectáculo\, estudantes até 25 anos e maiores de 65 anos\n\n(Este espetáculo está integrado no Passe Cultura\, apenas disponível na Bilheteira do Museu da Marioneta)\n\n\n\n \n\n\n\n[/vc_column_text][vc_column_text] \n\n\n\nDURAÇÃO\n40 minutos\n\n\n\n[/vc_column_text][vc_column_text] \n\nINFORMAÇÕES:\nbilheteira@museudamarioneta.pt\n213 942 810\nPara este espetáculo não são aceites reservas de bilhetes.\n\n[/vc_column_text][/vc_column][vc_column width=”3/4″][vc_column_text]Maria está aprisionada na Ditadura. \nOs longos braços de uma figura sinistra imobilizam-na no medo que sustenta este regime político. Em analogia ao reportório tradicional do Teatro Dom Roberto várias personagens surgem: umas aproximam-na do terror\, outras tentam socorrer os seus gritos de desespero. \nMas há quem desafie as leis e as convenções para devolver\, a Maria\, a Liberdade. \nUm espetáculo de marionetas de luva que\, à semelhança do Teatro de Robertos\, são manipuladas por um único marionetista que recorre à típica palheta para caracterizar a voz das personagens. \nA narrativa é acompanhada por viola com música original de Nuno do Ó. \n  \nBilhetes disponíveis aqui.\nE na bilheteira do Museu. \n  \nClassificação etária: M/6 \n  \nManipulação Manuel Costa Dias Música  Nuno do Ó \n  \n  \n  \nIncluído na programação Festas de Abril 2024. \n \n[/vc_column_text][/vc_column][/vc_row]
URL:https://www.museudamarioneta.pt/evento/maria-liberdade-trule-2/
LOCATION:Museu da Marioneta
CATEGORIES:Espetáculos,Programação
ATTACH;FMTTYPE=image/png:https://www.museudamarioneta.pt/wp-content/uploads/2024/03/calendario-MARIA-LIBERDADE.png
END:VEVENT
END:VCALENDAR