BEGIN:VCALENDAR
VERSION:2.0
PRODID:-//Museu da Marioneta - ECPv6.0.6.2//NONSGML v1.0//EN
CALSCALE:GREGORIAN
METHOD:PUBLISH
X-WR-CALNAME:Museu da Marioneta
X-ORIGINAL-URL:https://www.museudamarioneta.pt
X-WR-CALDESC:Events for Museu da Marioneta
REFRESH-INTERVAL;VALUE=DURATION:PT1H
X-Robots-Tag:noindex
X-PUBLISHED-TTL:PT1H
BEGIN:VTIMEZONE
TZID:UTC
BEGIN:STANDARD
TZOFFSETFROM:+0000
TZOFFSETTO:+0000
TZNAME:UTC
DTSTART:20260101T000000
END:STANDARD
END:VTIMEZONE
BEGIN:VEVENT
DTSTART;TZID=UTC:20260509T160000
DTEND;TZID=UTC:20260509T170000
DTSTAMP:20260420T221312
CREATED:20260420T133124Z
LAST-MODIFIED:20260420T133536Z
UID:10000294-1778342400-1778346000@www.museudamarioneta.pt
SUMMARY:assim vai o mundo | universo paralelo
DESCRIPTION:[vc_row][vc_column][vc_column_text] [/vc_column_text][/vc_column][vc_column][vc_column_text] \nA Terra é um planeta frágil\, onde injustiças e violências se repetem. Neste universo complexo há sempre espaços de esperança\, lembrando-nos que nos contextos mais sombrios é possível encontrar luz e encanto.\n𝘼𝙨𝙨𝙞𝙢 𝙫𝙖𝙞 𝙤 𝙈𝙪𝙣𝙙𝙤 é um espetáculo de teatro de marionetas e formas animadas que procura encontrar beleza num lugar onde pode ser difícil viver.\nÉ uma peça sensorial e intimista\, sem recurso à palavra\, com direção artística e interpretação a solo da atriz e encenadora Adriana Melo.\nAtravés da emoção e da poesia visual e sonora\, a companhia Universo Paralelo convida o público a sentir\, refletir e celebrar os sopros de vida que nos unem. \n  \nbilhetes disponíveis aqui. \n  \nM/6 | 55 min | 7\,5€ com descontos aplicáveis[/vc_column_text][/vc_column][/vc_row]
URL:https://www.museudamarioneta.pt/evento/assim-vai-o-mundo-universo-paralelo/
LOCATION:Museu da Marioneta
CATEGORIES:Espetáculos,Novidades,Programação
ATTACH;FMTTYPE=image/jpeg:https://www.museudamarioneta.pt/wp-content/uploads/2026/04/cartaz-.jpg
END:VEVENT
END:VCALENDAR