BEGIN:VCALENDAR
VERSION:2.0
PRODID:-//Museu da Marioneta - ECPv6.0.6.2//NONSGML v1.0//EN
CALSCALE:GREGORIAN
METHOD:PUBLISH
X-ORIGINAL-URL:https://www.museudamarioneta.pt
X-WR-CALDESC:Events for Museu da Marioneta
REFRESH-INTERVAL;VALUE=DURATION:PT1H
X-Robots-Tag:noindex
X-PUBLISHED-TTL:PT1H
BEGIN:VTIMEZONE
TZID:UTC
BEGIN:STANDARD
TZOFFSETFROM:+0000
TZOFFSETTO:+0000
TZNAME:UTC
DTSTART:20260101T000000
END:STANDARD
END:VTIMEZONE
BEGIN:VEVENT
DTSTART;TZID=UTC:20260531T103000
DTEND;TZID=UTC:20260531T113000
DTSTAMP:20260420T221415
CREATED:20260420T135304Z
LAST-MODIFIED:20260420T135356Z
UID:10000297-1780223400-1780227000@www.museudamarioneta.pt
SUMMARY:manhã criativa | desenhar com Pomar
DESCRIPTION:[vc_row][vc_column][vc_column_text] [/vc_column_text][vc_column_text]Cada traço que desenhamos é um gesto de teatro\, e cada cor dá vida à marioneta. Inspirados nas obras de Júlio Pomar\, que captava no papel o movimento das personagens ao observar espetáculos de marionetas\, propõe-se dar vida aos desenhos. Na exposição de longa duração do Museu da Marioneta\, vamos observar as marionetas nas vitrines e imaginar como se moviam em palco. Usando diferentes técnicas e materiais (riscadores\, tintas e pincéis inusitados) pintamos em folhas de grande formato\, criando movimentos livres e cheios de vida. \nJuntos\, vamos transformar o desenho em espetáculo! \n  \nbilhetes disponíveis aqui e na bilheteira do Museu. \n  \nM/6 | 2h | 10€ (adulto+criança)[/vc_column_text][/vc_column][/vc_row][vc_row][vc_column][/vc_column][/vc_row]
URL:https://www.museudamarioneta.pt/evento/manha-criativa-desenhar-com-pomar/
LOCATION:Museu da Marioneta
CATEGORIES:Manhã Criativa,Novidades,Programação
ATTACH;FMTTYPE=image/jpeg:https://www.museudamarioneta.pt/wp-content/uploads/2026/04/manha-criativa.jpg
END:VEVENT
END:VCALENDAR