BEGIN:VCALENDAR
VERSION:2.0
PRODID:-//Museu da Marioneta - ECPv6.0.6.2//NONSGML v1.0//EN
CALSCALE:GREGORIAN
METHOD:PUBLISH
X-ORIGINAL-URL:https://www.museudamarioneta.pt
X-WR-CALDESC:Events for Museu da Marioneta
REFRESH-INTERVAL;VALUE=DURATION:PT1H
X-Robots-Tag:noindex
X-PUBLISHED-TTL:PT1H
BEGIN:VTIMEZONE
TZID:UTC
BEGIN:STANDARD
TZOFFSETFROM:+0000
TZOFFSETTO:+0000
TZNAME:UTC
DTSTART:20240101T000000
END:STANDARD
END:VTIMEZONE
BEGIN:VEVENT
DTSTART;TZID=UTC:20240216T000000
DTEND;TZID=UTC:20240407T000000
DTSTAMP:20260421T114931
CREATED:20240116T102224Z
LAST-MODIFIED:20240208T164650Z
UID:10000113-1708041600-1712448000@www.museudamarioneta.pt
SUMMARY:Três Famílias | Exposição Temporária MONSTRA
DESCRIPTION:[vc_row css=”.vc_custom_1705400280083{background-image: url(https://www.museudamarioneta.pt/wp-content/uploads/2024/01/comprimida-p-site-00-FM24-1440×768-WEB-MARIONETA-02.png?id=17830) !important;background-position: center !important;background-repeat: no-repeat !important;background-size: cover !important;}”][vc_column][vc_column_text el_class=”TitleEventoBanner” css=”.vc_custom_1705400266600{background-position: center !important;background-repeat: no-repeat !important;background-size: cover !important;}”] \nTRÊS FAMÍLIAS\nMONSTRA | Festival de Animação de Lisboa\n[/vc_column_text][/vc_column][/vc_row][vc_row][vc_column width=”1/4″][vc_column_text] \nDE 16 DE FEVEREIRO A 7 DE ABRIL \n[/vc_column_text][vc_column_text] \n\n\n\nPÚBLICO ALVO\nAdultos e Famílias\n\n\n\n[/vc_column_text][vc_column_text] \n\n\n\nPREÇO\n3€ (apenas exposição temporária)\n\n\n\n[/vc_column_text][vc_column_text] \n\n\n\nDURAÇÃO\n\n\n\n\n[/vc_column_text][vc_column_text] \n\nINFORMAÇÕES\nmuseu@museudamarioneta.pt\n213 942 810\n\n[/vc_column_text][/vc_column][vc_column width=”3/4″][vc_column_text]Três famílias habitam a exposição temporária do Museu da Marioneta.\nEsta é a 17ª exposição da parceria com o MONSTRA | Festival de Animação de Lisboa. \nDesta vez\, uma exposição coletiva que reúne originais de três filmes sobre três famílias muito distintas de três diferentes países europeus. \nO filme de Alain Ughetto\, Interdito a cães e italianos\, é baseado numa história verídica e traz-nos o universo de uma família italiana que durante a Segunda Guerra Mundial é perseguida. \nExpostos estão também os bastidores do notável filme de Lea Vidakovic\, premiado em inúmeros festivais de cinema – Retrato de família – no qual a realizadora croata faz uma análise simultaneamente poética\, negra e humorada sobre os segredos de uma família aristocrata antes da Primeira Guerra Mundial. \nE uma terceira família de… ratos! A cada dia que passa… é um filme de um dos mais talentosos animadores portugueses a trabalhar nos estúdios Aardman há vários anos\, Emanuel Nevado. \nEntre os dias 16 de fevereiro e 7 de abril\, vamos viajar pelos bastidores de filmes de animação\, ver os originais de marionetas e cenários\, e também o trabalho minucioso de criar mundos em miniatura que ganham a dimensão de obras de arte nos ecrãs. \n  \nBilhetes disponíveis aqui.\nE na bilheteira do Museu. \n  \nCuradoria: Fernando Galrito.[/vc_column_text][/vc_column][/vc_row]
URL:https://www.museudamarioneta.pt/evento/tres-familias-exposicao-temporaria-monstra/
LOCATION:Museu da Marioneta
CATEGORIES:Exposições,Novidades,Programação
ATTACH;FMTTYPE=image/png:https://www.museudamarioneta.pt/wp-content/uploads/2024/01/comprimida-p-site-00-FM24-1440x768-WEB-MARIONETA-02.png
END:VEVENT
BEGIN:VEVENT
DTSTART;TZID=UTC:20240401T143000
DTEND;TZID=UTC:20240405T173000
DTSTAMP:20260421T114931
CREATED:20240301T103732Z
LAST-MODIFIED:20240301T104103Z
UID:10000117-1711981800-1712338200@www.museudamarioneta.pt
SUMMARY:Oficinas de Férias da Páscoa: Ilusão\, Cinema\, Ação!
DESCRIPTION:[vc_row css=”.vc_custom_1709289625741{background-image: url(https://www.museudamarioneta.pt/wp-content/uploads/2024/03/Design-sem-nome-29.jpg?id=17896) !important;background-position: center !important;background-repeat: no-repeat !important;background-size: cover !important;}”][vc_column][vc_column_text el_class=”TitleEventoBanner” css=”.vc_custom_1709289028062{background-position: center !important;background-repeat: no-repeat !important;background-size: cover !important;}”] \nILUSÃO\, CINEMA\, AÇÃO\nOficinas de Férias da Páscoa\n[/vc_column_text][/vc_column][/vc_row][vc_row][vc_column width=”1/4″][vc_column_text] \n1 A 5 DE ABRIL\, 14H30-17H30 \n[/vc_column_text][vc_column_text] \n\n\n\nPÚBLICO ALVO\nCrianças entre os 6 e os 12 anos\n\n\n\n[/vc_column_text][vc_column_text] \n\n\n\nPREÇO\n7€ por sessão\n30€ por semana\n\n\n\n[/vc_column_text][vc_column_text] \n\n\n\nDURAÇÃO\n3 horas\n\n\n\n[/vc_column_text][vc_column_text] \n\nINFORMAÇÕES\nmuseu@museudamarioneta.pt\n213 942 810\n\n[/vc_column_text][/vc_column][vc_column width=”3/4″][vc_column_text]No cinema há truques de ilusão que o aproximam da magia. \nMas o que é afinal a ilusão? E qual a sua relação com o cinema de animação?\nNestas Oficinas de Férias da Páscoa\, vamos desvendar o que está por detrás dos grandes efeitos do cinema de animação e que o tornam mágico! \nAbracadabra!! Prontos para a ação? \n  \nConheça o programa completo aqui. \n  \nBilhetes disponíveis aqui.\nE na bilheteira do Museu.[/vc_column_text][/vc_column][/vc_row]
URL:https://www.museudamarioneta.pt/evento/oficinas-de-ferias-da-pascoa-ilusao-cinema-acao/
LOCATION:Museu da Marioneta
CATEGORIES:Oficinas,Programação,Serviço Educativo
ATTACH;FMTTYPE=image/png:https://www.museudamarioneta.pt/wp-content/uploads/2024/03/imagem-ferias-da-pascoa.png
END:VEVENT
BEGIN:VEVENT
DTSTART;TZID=UTC:20240406T110000
DTEND;TZID=UTC:20240406T120000
DTSTAMP:20260421T114931
CREATED:20240108T110454Z
LAST-MODIFIED:20240131T163440Z
UID:10000112-1712401200-1712404800@www.museudamarioneta.pt
SUMMARY:À descoberta das Três Famílias
DESCRIPTION:[vc_row css=”.vc_custom_1704711317281{background-image: url(https://www.museudamarioneta.pt/wp-content/uploads/2024/01/the_family_portrait_07.jpg?id=17819) !important;background-position: center !important;background-repeat: no-repeat !important;background-size: cover !important;}”][vc_column][vc_column_text el_class=”TitleEventoBanner” css=”.vc_custom_1704711357188{background-position: center !important;background-repeat: no-repeat !important;background-size: cover !important;}”] \nÀ DESCOBERTA DAS TRÊS FAMÍLIAS\nVisita Orientada\n[/vc_column_text][/vc_column][/vc_row][vc_row][vc_column width=”1/4″][vc_column_text] \n6 DE ABRIL\, 11H \n[/vc_column_text][vc_column_text] \n\n\n\nPÚBLICO ALVO\nPúblico em geral\, a partir dos 6 anos.\n\n\n\n[/vc_column_text][vc_column_text] \n\n\n\nPREÇO\n6€\n\n\n\n[/vc_column_text][vc_column_text] \n\n\n\nDURAÇÃO\n30/45 min.\n\n\n\n[/vc_column_text][vc_column_text] \n\nINFORMAÇÕES:\nmuseu@museudamarioneta.pt\n213 942 810\n\n[/vc_column_text][/vc_column][vc_column width=”3/4″][vc_column_text]Há três famílias que habitam a exposição temporária no Museu da Marioneta. Uma família italiana\, outra croata e… uma família de ratos! \nTodas elas colecionaram aventuras e peripécias que foram animadas para o cinema e que são reveladas nesta Visita Orientada pela equipa do Serviço Educativo. \n  \nBilhetes disponíveis aqui.\nE na bilheteira do Museu.[/vc_column_text][/vc_column][/vc_row]
URL:https://www.museudamarioneta.pt/evento/a-descoberta-das-tres-familias-3/
LOCATION:Museu da Marioneta
CATEGORIES:Oficinas,Programação,Serviço Educativo
ATTACH;FMTTYPE=image/jpeg:https://www.museudamarioneta.pt/wp-content/uploads/2024/01/the_family_portrait_07.jpg
END:VEVENT
BEGIN:VEVENT
DTSTART;TZID=UTC:20240406T150000
DTEND;TZID=UTC:20240406T170000
DTSTAMP:20260421T114931
CREATED:20240108T104813Z
LAST-MODIFIED:20240322T151531Z
UID:10000109-1712415600-1712422800@www.museudamarioneta.pt
SUMMARY:Animar Marionetas! | Tarde Criativa
DESCRIPTION:[vc_row css=”.vc_custom_1704710637730{background-image: url(https://www.museudamarioneta.pt/wp-content/uploads/2024/01/Design-sem-nome-20.jpg?id=17798) !important;background-position: center !important;background-repeat: no-repeat !important;background-size: cover !important;}”][vc_column][vc_column_text el_class=”TitleEventoBanner” css=”.vc_custom_1704710705408{background-position: center !important;background-repeat: no-repeat !important;background-size: cover !important;}”] \nANIMAR MARIONETAS!\nTarde Criativa\n[/vc_column_text][/vc_column][/vc_row][vc_row][vc_column width=”1/4″][vc_column_text] \n6 DE ABRIL\, 15H-17H \n[/vc_column_text][vc_column_text] \n\n\n\nPÚBLICO ALVO\nCrianças dos 6 aos 12 anos\n\n\n\n[/vc_column_text][vc_column_text] \n\n\n\nPREÇO\n6€ (uma criança acompanhada por um adulto)\n\n\n\n[/vc_column_text][vc_column_text] \n\n\n\nDURAÇÃO\n2 horas\n\n\n\n[/vc_column_text][vc_column_text] \n\nINFORMAÇÕES:\nmuseu@museudamarioneta.pt\n213 942 810\n\n[/vc_column_text][/vc_column][vc_column width=”3/4″][vc_column_text]Chegou a Monstra! O festival de cinema de animação. \nEstamos à procura de novos realizadores para pôr prática a técnica do stopmotion. \nNesta oficina vamos dar movimento e expressão a um objeto inanimado.\nEntra neste mundo animado! \n  \nBilhetes disponíveis aqui.\nE na bilheteira do Museu. \n  \nA Tarde Criativa é uma atividade orientada pela equipa do Serviço Educativo do Museu da Marioneta\, para crianças com mais de 6 anos\, em que cada criança deverá estar acompanhada por um adulto.[/vc_column_text][/vc_column][/vc_row]
URL:https://www.museudamarioneta.pt/evento/animar-marionetas-tarde-criativa-2/
LOCATION:Museu da Marioneta
CATEGORIES:Manhã Criativa,Oficinas,Programação,Serviço Educativo
ATTACH;FMTTYPE=image/jpeg:https://www.museudamarioneta.pt/wp-content/uploads/2024/01/M.C.-ANIMACAO.jpg
END:VEVENT
BEGIN:VEVENT
DTSTART;TZID=UTC:20240420T103000
DTEND;TZID=UTC:20240420T163000
DTSTAMP:20260421T114931
CREATED:20230804T111157Z
LAST-MODIFIED:20240105T105254Z
UID:10000055-1713609000-1713630600@www.museudamarioneta.pt
SUMMARY:A marioneta na educação: conhecer e criar
DESCRIPTION:[vc_row css=”.vc_custom_1691145904591{background-image: url(https://www.museudamarioneta.pt/wp-content/uploads/2023/08/ver-scaled.jpg?id=17501) !important;background-position: center !important;background-repeat: no-repeat !important;background-size: cover !important;}”][vc_column][vc_column_text el_class=”TitleEventoBanner” css=”.vc_custom_1704451599890{background-position: center !important;background-repeat: no-repeat !important;background-size: cover !important;}”] \nA MARIONETA NA EDUCAÇÃO: CONHECER E CRIAR\nPara auxiliares\, educadores e professores\n[/vc_column_text][/vc_column][/vc_row][vc_row][vc_column width=”1/4″][vc_column_text] \n20 DE ABRIL\, 10H30-16H30 \n[/vc_column_text][vc_column_text] \n\n\n\nPÚBLICO ALVO\nAuxiliares\, educadores e professores\n\n\n\n[/vc_column_text][vc_column_text] \n\n\n\nPREÇO\n10€\n\n\n\n[/vc_column_text][vc_column_text] \n\n\n\nDURAÇÃO\n4 horas\n\n\n\n[/vc_column_text][vc_column_text] \n\nRESERVAS E INFORMAÇÕES\nPara reservas:\nPor favor\, preencha o formulário (link no texto).\n\nPara mais informações:\nmuseu@museudamarioneta.pt\n213 942 810\n\n[/vc_column_text][/vc_column][vc_column width=”3/4″][vc_column_text]Diversificada\, inclusiva\, imaginativa e sem preconceitos\, a marioneta traduz o pensamento que muitas vezes não se ousa revelar diretamente. \nA proposta é descobrir as diferentes técnicas de manipulação bem como a multiplicidade de materiais utilizados na construção de uma marioneta\, da mais simples à mais complexa. \nVamos também trabalhar as capacidades da marioneta como ferramenta pedagógica e auxiliar na sala de aulas\, através da expressão plástica\, da expressão oral\, da imaginação e da criatividade. \n  \nHorário:\n10h30 – 12h30\n14h30-16h30 \n  \nFormulário de inscrição. \n  \nEsta ação não é creditada\, aos participantes será entregue um certificado de participação.[/vc_column_text][/vc_column][/vc_row]
URL:https://www.museudamarioneta.pt/evento/a-marioneta-na-educacao-conhecer-e-criar-3/
LOCATION:Museu da Marioneta
CATEGORIES:Oficinas,Programação,Serviço Educativo
ATTACH;FMTTYPE=image/jpeg:https://www.museudamarioneta.pt/wp-content/uploads/2023/08/ver-scaled.jpg
END:VEVENT
BEGIN:VEVENT
DTSTART;TZID=UTC:20240425T103000
DTEND;TZID=UTC:20240425T123000
DTSTAMP:20260421T114931
CREATED:20240301T105458Z
LAST-MODIFIED:20240322T152801Z
UID:10000118-1714041000-1714048200@www.museudamarioneta.pt
SUMMARY:Marioneta Livre! | Oficina Relâmpago
DESCRIPTION:[vc_row css=”.vc_custom_1709290472421{background-image: url(https://www.museudamarioneta.pt/wp-content/uploads/2024/03/Design-sem-nome-30.jpg?id=17902) !important;background-position: center !important;background-repeat: no-repeat !important;background-size: cover !important;}”][vc_column][vc_column_text el_class=”TitleEventoBanner” css=”.vc_custom_1709289982460{background-position: center !important;background-repeat: no-repeat !important;background-size: cover !important;}”] \nMARIONETA LIVRE!\nOficina Relâmpago\n[/vc_column_text][/vc_column][/vc_row][vc_row][vc_column width=”1/4″][vc_column_text] \n25 DE ABRIL\, 10H30-12H30 \n[/vc_column_text][vc_column_text] \n\n\n\nPÚBLICO ALVO\nTodas as idades\n\n\n\n[/vc_column_text][vc_column_text] \n\n\n\nPREÇO\nGratuito\n\n\n\n[/vc_column_text][vc_column_text] \n\n\n\nDURAÇÃO\n3 horas\n\n\n\n[/vc_column_text][vc_column_text] \n\nINFORMAÇÕES:\nmuseu@museudamarioneta.pt\n213 942 810\n\n[/vc_column_text][/vc_column][vc_column width=”3/4″][vc_column_text]Na celebração dos 50 anos do 25 de abril\, damos liberdade a todos os visitantes do Museu da Marioneta para criarem a sua personagem.\nNesta oficina\, vamos criar e dar voz à marioneta. \nViva a Liberdade! \n  \n  \nEsta atividade é gratuita\, no âmbito da celebração dos 50 anos do 25 de abril.\nDecorre no Claustro do Museu durante toda a manhã. \n  \n  \nIncluído na programação Festas de Abril 2024. \n \n[/vc_column_text][/vc_column][/vc_row]
URL:https://www.museudamarioneta.pt/evento/marioneta-livre-oficina-relampago/
LOCATION:Museu da Marioneta
CATEGORIES:Oficinas,Programação,Serviço Educativo
ATTACH;FMTTYPE=image/jpeg:https://www.museudamarioneta.pt/wp-content/uploads/2024/03/imagem-Oficina-Relampago-abril-scaled.jpg
END:VEVENT
BEGIN:VEVENT
DTSTART;TZID=UTC:20240425T160000
DTEND;TZID=UTC:20240425T164000
DTSTAMP:20260421T114931
CREATED:20240306T172115Z
LAST-MODIFIED:20240322T152738Z
UID:10000121-1714060800-1714063200@www.museudamarioneta.pt
SUMMARY:Maria Liberdade | Trulé
DESCRIPTION:[vc_row css=”.vc_custom_1709745586235{background-image: url(https://www.museudamarioneta.pt/wp-content/uploads/2024/03/evento-calendario-MARIA-LIBERDADE.png?id=17921) !important;background-position: center !important;background-repeat: no-repeat !important;background-size: cover !important;}”][vc_column][vc_column_text el_class=”TitleEventoBanner” css=”.vc_custom_1709745287934{background-position: center !important;background-repeat: no-repeat !important;background-size: cover !important;}”] \nMARIA LIBERDADE\nTRULÉ\n[/vc_column_text][/vc_column][/vc_row][vc_row][vc_column width=”1/4″][vc_column_text] \n25 DE ABRIL\, 16H \n[/vc_column_text][vc_column_text] \n\n\n\nPÚBLICO ALVO\nPara maiores de 6 anos\n\n\n\n[/vc_column_text][vc_column_text] \n\n\n\nPREÇO\n\n\n\n\n7\,5 € / 5€ para crianças\, profissionais de espectáculo\, estudantes até 25 anos e maiores de 65 anos\n\n(Este espetáculo está integrado no Passe Cultura\, apenas disponível na Bilheteira do Museu da Marioneta)\n\n\n\n \n\n\n\n[/vc_column_text][vc_column_text] \n\n\n\nDURAÇÃO\n40 minutos\n\n\n\n[/vc_column_text][vc_column_text] \n\nINFORMAÇÕES:\nbilheteira@museudamarioneta.pt\n213 942 810\nPara este espetáculo não são aceites reservas de bilhetes.\n\n[/vc_column_text][/vc_column][vc_column width=”3/4″][vc_column_text]Maria está aprisionada na Ditadura. \nOs longos braços de uma figura sinistra imobilizam-na no medo que sustenta este regime político. Em analogia ao reportório tradicional do Teatro Dom Roberto várias personagens surgem: umas aproximam-na do terror\, outras tentam socorrer os seus gritos de desespero. \nMas há quem desafie as leis e as convenções para devolver\, a Maria\, a Liberdade. \nUm espetáculo de marionetas de luva que\, à semelhança do Teatro de Robertos\, são manipuladas por um único marionetista que recorre à típica palheta para caracterizar a voz das personagens. \nA narrativa é acompanhada por viola com música original de Nuno do Ó. \n  \nBilhetes disponíveis aqui.\nE na bilheteira do Museu. \n  \nClassificação etária: M/6 \n  \nManipulação Manuel Costa Dias Música  Nuno do Ó \n  \n  \n  \nIncluído na programação Festas de Abril 2024. \n \n[/vc_column_text][/vc_column][/vc_row]
URL:https://www.museudamarioneta.pt/evento/maria-liberdade-trule-2/
LOCATION:Museu da Marioneta
CATEGORIES:Espetáculos,Programação
ATTACH;FMTTYPE=image/png:https://www.museudamarioneta.pt/wp-content/uploads/2024/03/calendario-MARIA-LIBERDADE.png
END:VEVENT
BEGIN:VEVENT
DTSTART;TZID=UTC:20240426T103000
DTEND;TZID=UTC:20240426T111000
DTSTAMP:20260421T114931
CREATED:20240325T110516Z
LAST-MODIFIED:20240325T110516Z
UID:10000125-1714127400-1714129800@www.museudamarioneta.pt
SUMMARY:Maria Liberdade | Trulé
DESCRIPTION:[vc_row css=”.vc_custom_1709745586235{background-image: url(https://www.museudamarioneta.pt/wp-content/uploads/2024/03/evento-calendario-MARIA-LIBERDADE.png?id=17921) !important;background-position: center !important;background-repeat: no-repeat !important;background-size: cover !important;}”][vc_column][vc_column_text el_class=”TitleEventoBanner” css=”.vc_custom_1709745287934{background-position: center !important;background-repeat: no-repeat !important;background-size: cover !important;}”] \nMARIA LIBERDADE\nTRULÉ\n[/vc_column_text][/vc_column][/vc_row][vc_row][vc_column width=”1/4″][vc_column_text] \n26 DE ABRIL\, 10H30 \n[/vc_column_text][vc_column_text] \n\n\n\nPÚBLICO ALVO\nPara maiores de 6 anos\n\n\n\n[/vc_column_text][vc_column_text] \n\n\n\nPREÇO\n\n\n\n\n7\,5 € / 5€ para crianças\, profissionais de espectáculo\, estudantes até 25 anos e maiores de 65 anos\n\n(Este espetáculo está integrado no Passe Cultura\, apenas disponível na Bilheteira do Museu da Marioneta)\n\n\n\n \n\n\n\n[/vc_column_text][vc_column_text] \n\n\n\nDURAÇÃO\n40 minutos\n\n\n\n[/vc_column_text][vc_column_text] \n\nINFORMAÇÕES:\nbilheteira@museudamarioneta.pt\n213 942 810\nPara este espetáculo não são aceites reservas de bilhetes.\n\n[/vc_column_text][/vc_column][vc_column width=”3/4″][vc_column_text]Maria está aprisionada na Ditadura. \nOs longos braços de uma figura sinistra imobilizam-na no medo que sustenta este regime político. Em analogia ao reportório tradicional do Teatro Dom Roberto várias personagens surgem: umas aproximam-na do terror\, outras tentam socorrer os seus gritos de desespero. \nMas há quem desafie as leis e as convenções para devolver\, a Maria\, a Liberdade. \nUm espetáculo de marionetas de luva que\, à semelhança do Teatro de Robertos\, são manipuladas por um único marionetista que recorre à típica palheta para caracterizar a voz das personagens. \nA narrativa é acompanhada por viola com música original de Nuno do Ó. \n  \nBilhetes disponíveis aqui.\nE na bilheteira do Museu. \n  \nClassificação etária: M/6 \n  \nManipulação Manuel Costa Dias Música  Nuno do Ó \n  \n  \n  \nIncluído na programação Festas de Abril 2024. \n \n[/vc_column_text][/vc_column][/vc_row]
URL:https://www.museudamarioneta.pt/evento/maria-liberdade-trule-3/
LOCATION:Museu da Marioneta
CATEGORIES:Espetáculos,Programação
ATTACH;FMTTYPE=image/png:https://www.museudamarioneta.pt/wp-content/uploads/2024/03/calendario-MARIA-LIBERDADE.png
END:VEVENT
BEGIN:VEVENT
DTSTART;TZID=UTC:20240427T160000
DTEND;TZID=UTC:20240427T164000
DTSTAMP:20260421T114931
CREATED:20240306T172943Z
LAST-MODIFIED:20240322T152714Z
UID:10000123-1714233600-1714236000@www.museudamarioneta.pt
SUMMARY:Maria Liberdade | Trulé
DESCRIPTION:[vc_row css=”.vc_custom_1709745586235{background-image: url(https://www.museudamarioneta.pt/wp-content/uploads/2024/03/evento-calendario-MARIA-LIBERDADE.png?id=17921) !important;background-position: center !important;background-repeat: no-repeat !important;background-size: cover !important;}”][vc_column][vc_column_text el_class=”TitleEventoBanner” css=”.vc_custom_1709745287934{background-position: center !important;background-repeat: no-repeat !important;background-size: cover !important;}”] \nMARIA LIBERDADE\nTRULÉ\n[/vc_column_text][/vc_column][/vc_row][vc_row][vc_column width=”1/4″][vc_column_text] \n27 DE ABRIL\, 16H \n[/vc_column_text][vc_column_text] \n\n\n\nPÚBLICO ALVO\nPara maiores de 6 anos\n\n\n\n[/vc_column_text][vc_column_text] \n\n\n\nPREÇO\n\n\n\n\n7\,5 € / 5€ para crianças\, profissionais de espectáculo\, estudantes até 25 anos e maiores de 65 anos\n\n(Este espetáculo está integrado no Passe Cultura\, apenas disponível na Bilheteira do Museu da Marioneta)\n\n\n\n \n\n\n\n[/vc_column_text][vc_column_text] \n\n\n\nDURAÇÃO\n40 minutos\n\n\n\n[/vc_column_text][vc_column_text] \n\nINFORMAÇÕES:\nbilheteira@museudamarioneta.pt\n213 942 810\nPara este espetáculo não são aceites reservas de bilhetes.\n\n[/vc_column_text][/vc_column][vc_column width=”3/4″][vc_column_text]Maria está aprisionada na Ditadura. \nOs longos braços de uma figura sinistra imobilizam-na no medo que sustenta este regime político. Em analogia ao reportório tradicional do Teatro Dom Roberto várias personagens surgem: umas aproximam-na do terror\, outras tentam socorrer os seus gritos de desespero. \nMas há quem desafie as leis e as convenções para devolver\, a Maria\, a Liberdade. \nUm espetáculo de marionetas de luva que\, à semelhança do Teatro de Robertos\, são manipuladas por um único marionetista que recorre à típica palheta para caracterizar a voz das personagens. \nA narrativa é acompanhada por viola com música original de Nuno do Ó. \n  \n  \nBilhetes disponíveis aqui.\nE na bilheteira do Museu. \n  \nClassificação etária: M/6 \n  \n  \nManipulação Manuel Costa Dias Música  Nuno do Ó \n  \n  \n  \nIncluído na programação Festas de Abril 2024. \n \n[/vc_column_text][/vc_column][/vc_row]
URL:https://www.museudamarioneta.pt/evento/maria-liberdade-trule/
LOCATION:Museu da Marioneta
CATEGORIES:Espetáculos,Programação
ATTACH;FMTTYPE=image/png:https://www.museudamarioneta.pt/wp-content/uploads/2024/03/calendario-MARIA-LIBERDADE.png
END:VEVENT
BEGIN:VEVENT
DTSTART;TZID=UTC:20240428T103000
DTEND;TZID=UTC:20240428T123000
DTSTAMP:20260421T114931
CREATED:20240301T114030Z
LAST-MODIFIED:20240322T152647Z
UID:10000119-1714300200-1714307400@www.museudamarioneta.pt
SUMMARY:Marionetas de Abril | Manhã Criativa
DESCRIPTION:[vc_row css=”.vc_custom_1709635150820{background-image: url(https://www.museudamarioneta.pt/wp-content/uploads/2024/03/maria-liberdade-evento-calendario.jpg?id=17914) !important;background-position: center !important;background-repeat: no-repeat !important;background-size: cover !important;}”][vc_column][vc_column_text el_class=”TitleEventoBanner” css=”.vc_custom_1709292980518{background-position: center !important;background-repeat: no-repeat !important;background-size: cover !important;}”] \nMARIONETAS DE ABRIL\nManhã Criativa\n[/vc_column_text][/vc_column][/vc_row][vc_row][vc_column width=”1/4″][vc_column_text] \n28 DE ABRIL\, 10H30-12H30 \n[/vc_column_text][vc_column_text] \n\n\n\nPÚBLICO ALVO\nCrianças dos 6 aos 12 anos\n\n\n\n[/vc_column_text][vc_column_text] \n\n\n\nPREÇO\n6€ (uma criança acompanhada por um adulto)\n\n\n\n[/vc_column_text][vc_column_text] \n\n\n\nDURAÇÃO\n2 horas\n\n\n\n[/vc_column_text][vc_column_text] \n\nINFORMAÇÕES:\nmuseu@museudamarioneta.pt\n213 942 810\n\n[/vc_column_text][/vc_column][vc_column width=”3/4″][vc_column_text]Um grande herói desafiou os poderes da opressão. Entre cravos e espingardas\, salvou Maria Liberdade no dia 25 de abril!\nPara celebrar os 50 anos desse dia\, vem construir a personagem desta grande história. \n  \nBilhetes disponíveis aqui.\nE na bilheteira do Museu. \n  \nA Manhã Criativa é uma atividade orientada pela equipa do Serviço Educativo do Museu da Marioneta\, para crianças com mais de 6 anos\, em que cada criança deverá estar acompanhada por um adulto. Acontece no último domingo de cada mês. \n  \n  \nIncluído na programação Festas de Abril 2024. \n \n[/vc_column_text][/vc_column][/vc_row]
URL:https://www.museudamarioneta.pt/evento/marionetas-de-abril-manha-criativa/
LOCATION:Museu da Marioneta
CATEGORIES:Manhã Criativa,Oficinas,Programação,Serviço Educativo
ATTACH;FMTTYPE=image/png:https://www.museudamarioneta.pt/wp-content/uploads/2024/03/maria-liberdade-calendario.png
END:VEVENT
END:VCALENDAR