BEGIN:VCALENDAR
VERSION:2.0
PRODID:-//Museu da Marioneta - ECPv6.0.6.2//NONSGML v1.0//EN
CALSCALE:GREGORIAN
METHOD:PUBLISH
X-ORIGINAL-URL:https://www.museudamarioneta.pt
X-WR-CALDESC:Events for Museu da Marioneta
REFRESH-INTERVAL;VALUE=DURATION:PT1H
X-Robots-Tag:noindex
X-PUBLISHED-TTL:PT1H
BEGIN:VTIMEZONE
TZID:UTC
BEGIN:STANDARD
TZOFFSETFROM:+0000
TZOFFSETTO:+0000
TZNAME:UTC
DTSTART:20240101T000000
END:STANDARD
END:VTIMEZONE
BEGIN:VEVENT
DTSTART;TZID=UTC:20240516T190000
DTEND;TZID=UTC:20240516T200000
DTSTAMP:20260421T131351
CREATED:20240428T220740Z
LAST-MODIFIED:20240428T220740Z
UID:10000131-1715886000-1715889600@www.museudamarioneta.pt
SUMMARY:Historieta de un abrazo | Dromosofista
DESCRIPTION:[vc_row css=”.vc_custom_1714341965004{background-image: url(https://www.museudamarioneta.pt/wp-content/uploads/2024/04/evento-site-1.jpg?id=18006) !important;background-position: center !important;background-repeat: no-repeat !important;background-size: cover !important;}”][vc_column][vc_column_text el_class=”TitleEventoBanner” css=”.vc_custom_1714341701437{background-position: center !important;background-repeat: no-repeat !important;background-size: cover !important;}”] \nHISTORIETA DE UN ABRAZO\nDROMOSOFISTA\n[/vc_column_text][/vc_column][/vc_row][vc_row][vc_column width=”1/4″][vc_column_text] \n16 DE MAIO\, 19H00 \n[/vc_column_text][vc_column_text] \n\n\n\nPÚBLICO ALVO\nPara maiores de 6 anos\n\n\n\n[/vc_column_text][vc_column_text] \n\n\n\nPREÇO\n\n\n\n\n7\,5 € / 5€ para crianças\, profissionais de espectáculo\, estudantes até 25 anos e maiores de 65 anos\n\n\n\n\n\n\n\n\n\n[/vc_column_text][vc_column_text] \n\n\n\nDURAÇÃO\n40 minutos\n\n\n\n[/vc_column_text][vc_column_text] \n\nINFORMAÇÕES:\nmuseu@museudamarioneta.pt\n213 942 810\nPara este espetáculo não são aceites reservas de bilhetes.\n\n[/vc_column_text][/vc_column][vc_column width=”3/4″][vc_column_text]Numa narrativa que se desenrola entre o satírico e o trágico\, entre a ternura e a tormenta\, acompanhamos um casal na complexidade das relações amorosas. Em palco\, com recurso ao gesto\, à manipulação à vista\, à música e à mímica\, exploram-se as várias nuances que transcendem a paixão. \nHistorieta de un Abrazo é um espetáculo envolvente com pouco recurso à palavra. Uma criação da companhia italiana Dromosofista\, com manipulação de Rugiada Grignani e Facundo Moreno que dão vida a um mundo imaginário repleto de música\, teatro\, sombras e sonhos. \n  \nBilhetes disponíveis aqui.\nE na bilheteira do Museu \n  \nClassificação etária: M/6 \nCriação Dromosofista Manipulação Rugiada Grignani e Facundo Moreno \n[/vc_column_text][/vc_column][/vc_row]
URL:https://www.museudamarioneta.pt/evento/historieta-de-un-abrazo-dromosofista/
LOCATION:Museu da Marioneta
CATEGORIES:Espetáculos,Programação
ATTACH;FMTTYPE=image/jpeg:https://www.museudamarioneta.pt/wp-content/uploads/2024/04/4-Copia-min-scaled.jpg
END:VEVENT
BEGIN:VEVENT
DTSTART;TZID=UTC:20240517T190000
DTEND;TZID=UTC:20240517T200000
DTSTAMP:20260421T131351
CREATED:20240428T220840Z
LAST-MODIFIED:20240428T220840Z
UID:10000132-1715972400-1715976000@www.museudamarioneta.pt
SUMMARY:Historieta de un abrazo | Dromosofista
DESCRIPTION:[vc_row css=”.vc_custom_1714341965004{background-image: url(https://www.museudamarioneta.pt/wp-content/uploads/2024/04/evento-site-1.jpg?id=18006) !important;background-position: center !important;background-repeat: no-repeat !important;background-size: cover !important;}”][vc_column][vc_column_text el_class=”TitleEventoBanner” css=”.vc_custom_1714341701437{background-position: center !important;background-repeat: no-repeat !important;background-size: cover !important;}”] \nHISTORIETA DE UN ABRAZO\nDROMOSOFISTA\n[/vc_column_text][/vc_column][/vc_row][vc_row][vc_column width=”1/4″][vc_column_text] \n17 DE MAIO\, 19H00 \n[/vc_column_text][vc_column_text] \n\n\n\nPÚBLICO ALVO\nPara maiores de 6 anos\n\n\n\n[/vc_column_text][vc_column_text] \n\n\n\nPREÇO\n\n\n\n\n7\,5 € / 5€ para crianças\, profissionais de espectáculo\, estudantes até 25 anos e maiores de 65 anos\n\n\n\n\n\n\n\n\n\n[/vc_column_text][vc_column_text] \n\n\n\nDURAÇÃO\n40 minutos\n\n\n\n[/vc_column_text][vc_column_text] \n\nINFORMAÇÕES:\nmuseu@museudamarioneta.pt\n213 942 810\nPara este espetáculo não são aceites reservas de bilhetes.\n\n[/vc_column_text][/vc_column][vc_column width=”3/4″][vc_column_text]Numa narrativa que se desenrola entre o satírico e o trágico\, entre a ternura e a tormenta\, acompanhamos um casal na complexidade das relações amorosas. Em palco\, com recurso ao gesto\, à manipulação à vista\, à música e à mímica\, exploram-se as várias nuances que transcendem a paixão. \nHistorieta de un Abrazo é um espetáculo envolvente com pouco recurso à palavra. Uma criação da companhia italiana Dromosofista\, com manipulação de Rugiada Grignani e Facundo Moreno que dão vida a um mundo imaginário repleto de música\, teatro\, sombras e sonhos. \n  \nBilhetes disponíveis aqui.\nE na bilheteira do Museu \n  \nClassificação etária: M/6 \nCriação Dromosofista Manipulação Rugiada Grignani e Facundo Moreno \n[/vc_column_text][/vc_column][/vc_row]
URL:https://www.museudamarioneta.pt/evento/historieta-de-un-abrazo-dromosofista-2/
LOCATION:Museu da Marioneta
CATEGORIES:Espetáculos,Programação
ATTACH;FMTTYPE=image/jpeg:https://www.museudamarioneta.pt/wp-content/uploads/2024/04/4-Copia-min-scaled.jpg
END:VEVENT
BEGIN:VEVENT
DTSTART;TZID=UTC:20240518T000000
DTEND;TZID=UTC:20240602T000000
DTSTAMP:20260421T131351
CREATED:20240428T224403Z
LAST-MODIFIED:20240428T224403Z
UID:10000136-1715990400-1717286400@www.museudamarioneta.pt
SUMMARY:A obra é o pretexto | Exposição Temporária
DESCRIPTION:[vc_row css=”.vc_custom_1714344075131{background-image: url(https://www.museudamarioneta.pt/wp-content/uploads/2024/04/processed-C4B51DFA-9412-410C-9DEF-E76E60E04826-scaled.jpeg?id=18048) !important;background-position: center !important;background-repeat: no-repeat !important;background-size: cover !important;}”][vc_column][vc_column_text el_class=”TitleEventoBanner” css=”.vc_custom_1714344212526{background-position: center !important;background-repeat: no-repeat !important;background-size: cover !important;}”] \nA OBRA É O PRETEXTO\n[/vc_column_text][/vc_column][/vc_row][vc_row][vc_column width=”1/4″][vc_column_text] \nDE 18 DE MAIO A 2 DE JUNHO \n[/vc_column_text][vc_column_text] \n\n\n\nPÚBLICO ALVO\nTodos\n\n\n\n[/vc_column_text][vc_column_text] \n\n\n\nPREÇO\nEntrada livre\n\n\n\n[/vc_column_text][vc_column_text] \n\n\n\nDURAÇÃO\n\n\n\n\n[/vc_column_text][vc_column_text] \n\nINFORMAÇÕES\nmuseu@museudamarioneta.pt\n213 942 810\n\n[/vc_column_text][/vc_column][vc_column width=”3/4″][vc_column_text]A obra é o pretexto é uma exposição de marionetas de fios\, desenvolvidas por 120 alunos do 5º ano (turmas 5ºA\, 5ºB\, 5ºC E 5ºD)\, do Colégio Valsassina\, no âmbito do projeto Museu à Medida.\nDurante 8 meses\, a criatividade e a imaginação foram o maior desafio para todos os alunos\, professores e mediadores \nComo criar personagens através de materiais reutilizados? Qual o princípio para construir uma marioneta? Que história representar? Como representar? \nO conto de Sophia de Mello Breyner – A Fada Oriana – foi o pretexto para a criação destas marionetas.\nDo cruzamento de saberes das disciplinas de Educação Tecnológica e Português\, bem como da partilha de conhecimento sobre o teatro de marionetas\, tanto no Museu como na sala de aula\, surgem outros modos de materializar as personagens desta ilustre obra. \nO pretexto é a obra A Fada Oriana – mas\, desta exposição\, nasce outra história. \n[/vc_column_text][/vc_column][/vc_row]
URL:https://www.museudamarioneta.pt/evento/a-obra-e-o-pretexto-exposicao-temporaria/
LOCATION:Museu da Marioneta
CATEGORIES:Exposições,Novidades,Programação
ATTACH;FMTTYPE=image/jpeg:https://www.museudamarioneta.pt/wp-content/uploads/2024/04/processed-C4B51DFA-9412-410C-9DEF-E76E60E04826-scaled.jpeg
END:VEVENT
BEGIN:VEVENT
DTSTART;TZID=UTC:20240518T150000
DTEND;TZID=UTC:20240518T170000
DTSTAMP:20260421T131351
CREATED:20240428T222630Z
LAST-MODIFIED:20240428T222937Z
UID:10000134-1716044400-1716051600@www.museudamarioneta.pt
SUMMARY:Museu Secreto
DESCRIPTION:[vc_row css=”.vc_custom_1707132615642{background-image: url(https://www.museudamarioneta.pt/wp-content/uploads/2024/02/Design-sem-nome-26.jpg?id=17869) !important;background-position: center !important;background-repeat: no-repeat !important;background-size: cover !important;}”][vc_column][vc_column_text el_class=”TitleEventoBanner” css=”.vc_custom_1707132405374{background-position: center !important;background-repeat: no-repeat !important;background-size: cover !important;}”] \nMUSEU SECRETO\nVisita-jogo\n[/vc_column_text][/vc_column][/vc_row][vc_row][vc_column width=”1/4″][vc_column_text] \n18 DE MAIO\, 15H-17H \n[/vc_column_text][vc_column_text] \n\n\n\nPÚBLICO ALVO\nCrianças com mais de 8 anos\n\n\n\n[/vc_column_text][vc_column_text] \n\n\n\nPREÇO\n6€ (um adulto e uma criança)\n\n\n\n[/vc_column_text][vc_column_text] \n\n\n\nDURAÇÃO\n90 min.\n\n\n\n[/vc_column_text][vc_column_text] \n\nINFORMAÇÕES:\nmuseu@museudamarioneta.pt\n213 942 810\n\n[/vc_column_text][/vc_column][vc_column width=”3/4″][vc_column_text]No Museu da Marioneta há cerca de 600 peças em exposição\, mas existem muitas mais… \nPara celebrar o Dia Internacional dos Museus\, propomos uma missão para os mais novos: encontrar a peça desaparecida das vitrines do Museu através de pistas e desafios. \nEsta é uma visita-jogo\, orientada pela equipa do Serviço Educativo\, em que o trabalho em equipa e a perspicácia são ferramentas essenciais para desvendar o mistério. \nAfinal\, onde estão as peças que não estão à vista no Museu? \n  \nBilhetes disponíveis aqui.\nE na bilheteira do Museu.[/vc_column_text][/vc_column][/vc_row]
URL:https://www.museudamarioneta.pt/evento/museu-secreto-2/
LOCATION:Museu da Marioneta
CATEGORIES:Programação,Serviço Educativo
ATTACH;FMTTYPE=image/jpeg:https://www.museudamarioneta.pt/wp-content/uploads/2022/05/P1010559-scaled.jpg
END:VEVENT
BEGIN:VEVENT
DTSTART;TZID=UTC:20240518T190000
DTEND;TZID=UTC:20240518T200000
DTSTAMP:20260421T131351
CREATED:20240428T220939Z
LAST-MODIFIED:20240428T220939Z
UID:10000133-1716058800-1716062400@www.museudamarioneta.pt
SUMMARY:Historieta de un abrazo | Dromosofista
DESCRIPTION:[vc_row css=”.vc_custom_1714341965004{background-image: url(https://www.museudamarioneta.pt/wp-content/uploads/2024/04/evento-site-1.jpg?id=18006) !important;background-position: center !important;background-repeat: no-repeat !important;background-size: cover !important;}”][vc_column][vc_column_text el_class=”TitleEventoBanner” css=”.vc_custom_1714341701437{background-position: center !important;background-repeat: no-repeat !important;background-size: cover !important;}”] \nHISTORIETA DE UN ABRAZO\nDROMOSOFISTA\n[/vc_column_text][/vc_column][/vc_row][vc_row][vc_column width=”1/4″][vc_column_text] \n18 DE MAIO\, 19H00 \n[/vc_column_text][vc_column_text] \n\n\n\nPÚBLICO ALVO\nPara maiores de 6 anos\n\n\n\n[/vc_column_text][vc_column_text] \n\n\n\nPREÇO\n\n\n\n\n7\,5 € / 5€ para crianças\, profissionais de espectáculo\, estudantes até 25 anos e maiores de 65 anos\n\n\n\n\n\n\n\n\n\n[/vc_column_text][vc_column_text] \n\n\n\nDURAÇÃO\n40 minutos\n\n\n\n[/vc_column_text][vc_column_text] \n\nINFORMAÇÕES:\nmuseu@museudamarioneta.pt\n213 942 810\nPara este espetáculo não são aceites reservas de bilhetes.\n\n[/vc_column_text][/vc_column][vc_column width=”3/4″][vc_column_text]Numa narrativa que se desenrola entre o satírico e o trágico\, entre a ternura e a tormenta\, acompanhamos um casal na complexidade das relações amorosas. Em palco\, com recurso ao gesto\, à manipulação à vista\, à música e à mímica\, exploram-se as várias nuances que transcendem a paixão. \nHistorieta de un Abrazo é um espetáculo envolvente com pouco recurso à palavra. Uma criação da companhia italiana Dromosofista\, com manipulação de Rugiada Grignani e Facundo Moreno que dão vida a um mundo imaginário repleto de música\, teatro\, sombras e sonhos. \n  \nBilhetes disponíveis aqui.\nE na bilheteira do Museu \n  \nClassificação etária: M/6 \nCriação Dromosofista Manipulação Rugiada Grignani e Facundo Moreno \n[/vc_column_text][/vc_column][/vc_row]
URL:https://www.museudamarioneta.pt/evento/historieta-de-un-abrazo-dromosofista-3/
LOCATION:Museu da Marioneta
CATEGORIES:Espetáculos,Programação
ATTACH;FMTTYPE=image/jpeg:https://www.museudamarioneta.pt/wp-content/uploads/2024/04/4-Copia-min-scaled.jpg
END:VEVENT
BEGIN:VEVENT
DTSTART;TZID=UTC:20240525T160000
DTEND;TZID=UTC:20240525T170000
DTSTAMP:20260421T131351
CREATED:20240418T220254Z
LAST-MODIFIED:20240418T221659Z
UID:10000127-1716652800-1716656400@www.museudamarioneta.pt
SUMMARY:Jacarandá | Universo Paralelo
DESCRIPTION:[vc_row css=”.vc_custom_1713478524329{background-image: url(https://www.museudamarioneta.pt/wp-content/uploads/2024/04/Foto-de-cartaz-do-espetaculo-Jacaranda-©grafonola-2-scaled.jpg?id=18018) !important;background-position: center !important;background-repeat: no-repeat !important;background-size: cover !important;}”][vc_column][vc_column_text el_class=”TitleEventoBanner” css=”.vc_custom_1713478498076{background-position: center !important;background-repeat: no-repeat !important;background-size: cover !important;}”] \nJACARANDÁ\nUNIVERSO PARALELO\n[/vc_column_text][/vc_column][/vc_row][vc_row][vc_column width=”1/4″][vc_column_text] \n25 DE MAIO\, 16H00 \n[/vc_column_text][vc_column_text] \n\n\n\nPÚBLICO ALVO\nPara maiores de 6 anos\n\n\n\n[/vc_column_text][vc_column_text] \n\n\n\nPREÇO\n\n\n\n\n7\,5 € / 5€ para crianças\, profissionais de espectáculo\, estudantes até 25 anos e maiores de 65 anos\n\n\n\n\n\n\n\n\n\n[/vc_column_text][vc_column_text] \n\n\n\nDURAÇÃO\n50 minutos\n\n\n\n[/vc_column_text][vc_column_text] \n\nINFORMAÇÕES:\nmuseu@museudamarioneta.pt\n213 942 810\nPara este espetáculo não são aceites reservas de bilhetes.\n\n[/vc_column_text][/vc_column][vc_column width=”3/4″][vc_column_text] \nA seiva é o sangue\, um líquido vital que flui nas veias da natureza\, transporta a água e os nutrientes aos corpos de diferentes tamanhos\, espessuras e cores\, provenientes de vários lugares.\nA seiva é o sangue que impulsiona o crescimento das árvores. Sabemos que as árvores representam uma rica fonte de produção de oxigénio no mundo\, no entanto\, o desconhecido permanece vasto. \nJacarandá mergulha no desconhecido\, onde o infinito se desdobra. É um espetáculo de teatro de marionetas e formas animadas que procura investigar o universo oculto e misterioso da natureza. Revela as cores\, o ritmo e a mestria botânica na qual muitos seres habitam. O que ainda não sabemos é infinito. \nEsta obra sensorial e de carácter intimista\, sem recurso à palavra\, é um solo do bailarino e marionetista Magnum Soares. \n  \nBilhetes disponíveis aqui.\nE na bilheteira do Museu. \n  \nClassificação etária: M/6 \nDireção artística Adriana Melo e Magnum Soares Interpretação\, construção de marionetas e objetos de cena Magnum Soares Cenografia Élio Antunes e Magnum Soares Figurino Ícaro Carmen Música original Duda ♧ Somtopia Produção Universo Paralelo Coprodução Museu da Marioneta – EGEAC e Produções Real Pelágio Parceiros SIB A Voz do Operário\, Produções Real Pelágio e Fab Lab Lisboa Com o apoio da Câmara Municipal de Lisboa Agradecimentos A toda a equipa da Real Pelágio \nProjeto financiado pela República Portuguesa – Direção Geral das Artes \n  \n[/vc_column_text][/vc_column][/vc_row]
URL:https://www.museudamarioneta.pt/evento/jacaranda-universo-paralelo/
LOCATION:Museu da Marioneta
CATEGORIES:Espetáculos,Programação
ATTACH;FMTTYPE=image/jpeg:https://www.museudamarioneta.pt/wp-content/uploads/2024/04/Foto-de-cartaz-do-espetaculo-Jacaranda-©grafonola-2-scaled.jpg
END:VEVENT
BEGIN:VEVENT
DTSTART;TZID=UTC:20240526T113000
DTEND;TZID=UTC:20240526T123000
DTSTAMP:20260421T131351
CREATED:20240418T221803Z
LAST-MODIFIED:20240428T215656Z
UID:10000128-1716723000-1716726600@www.museudamarioneta.pt
SUMMARY:Jacarandá | Universo Paralelo
DESCRIPTION:[vc_row css=”.vc_custom_1713478524329{background-image: url(https://www.museudamarioneta.pt/wp-content/uploads/2024/04/Foto-de-cartaz-do-espetaculo-Jacaranda-©grafonola-2-scaled.jpg?id=18018) !important;background-position: center !important;background-repeat: no-repeat !important;background-size: cover !important;}”][vc_column][vc_column_text el_class=”TitleEventoBanner” css=”.vc_custom_1713478498076{background-position: center !important;background-repeat: no-repeat !important;background-size: cover !important;}”] \nJACARANDÁ\nUNIVERSO PARALELO\n[/vc_column_text][/vc_column][/vc_row][vc_row][vc_column width=”1/4″][vc_column_text] \n26 DE MAIO\, 11H30 \n[/vc_column_text][vc_column_text] \n\n\n\nPÚBLICO ALVO\nPara maiores de 6 anos\n\n\n\n[/vc_column_text][vc_column_text] \n\n\n\nPREÇO\n\n\n\n\n7\,5 € / 5€ para crianças\, profissionais de espectáculo\, estudantes até 25 anos e maiores de 65 anos\n\n\n\n\n\n\n\n\n\n[/vc_column_text][vc_column_text] \n\n\n\nDURAÇÃO\n50 minutos\n\n\n\n[/vc_column_text][vc_column_text] \n\nINFORMAÇÕES:\nmuseu@museudamarioneta.pt\n213 942 810\nPara este espetáculo não são aceites reservas de bilhetes.\n\n[/vc_column_text][/vc_column][vc_column width=”3/4″][vc_column_text] \nA seiva é o sangue\, um líquido vital que flui nas veias da natureza\, transporta a água e os nutrientes aos corpos de diferentes tamanhos\, espessuras e cores\, provenientes de vários lugares.\nA seiva é o sangue que impulsiona o crescimento das árvores. Sabemos que as árvores representam uma rica fonte de produção de oxigénio no mundo\, no entanto\, o desconhecido permanece vasto. \nJacarandá mergulha no desconhecido\, onde o infinito se desdobra. É um espetáculo de teatro de marionetas e formas animadas que procura investigar o universo oculto e misterioso da natureza. Revela as cores\, o ritmo e a mestria botânica na qual muitos seres habitam. O que ainda não sabemos é infinito. \nEsta obra sensorial e de carácter intimista\, sem recurso à palavra\, é um solo do bailarino e marionetista Magnum Soares. \n  \nBilhetes disponíveis aqui.\nE na bilheteira do Museu. \n  \nClassificação etária: M/6 \nDireção artística Adriana Melo e Magnum Soares Interpretação\, construção de marionetas e objetos de cena Magnum Soares Cenografia Élio Antunes e Magnum Soares Figurino Ícaro Carmen Música original Duda ♧ Somtopia Produção Universo Paralelo Coprodução Museu da Marioneta – EGEAC e Produções Real Pelágio Parceiros SIB A Voz do Operário\, Produções Real Pelágio e Fab Lab Lisboa Com o apoio da Câmara Municipal de Lisboa Agradecimentos A toda a equipa da Real Pelágio \nProjeto financiado pela República Portuguesa – Direção Geral das Artes \n  \n[/vc_column_text][/vc_column][/vc_row]
URL:https://www.museudamarioneta.pt/evento/jacaranda-universo-paralelo-2/
LOCATION:Museu da Marioneta
CATEGORIES:Espetáculos,Programação
ATTACH;FMTTYPE=image/jpeg:https://www.museudamarioneta.pt/wp-content/uploads/2024/04/Foto-de-cartaz-do-espetaculo-Jacaranda-©grafonola-2-scaled.jpg
END:VEVENT
END:VCALENDAR